BEGIN:VCALENDAR
VERSION:2.0
PRODID:-//Bouddi Farm - Stylish self-contained accommodation at Killcare Heights. - ECPv4.9.13//NONSGML v1.0//EN
CALSCALE:GREGORIAN
METHOD:PUBLISH
X-WR-CALNAME:Bouddi Farm - Stylish self-contained accommodation at Killcare Heights.
X-ORIGINAL-URL:https://killcareaccommodation.com.au
X-WR-CALDESC:Events for Bouddi Farm - Stylish self-contained accommodation at Killcare Heights.
BEGIN:VTIMEZONE
TZID:UTC
BEGIN:STANDARD
TZOFFSETFROM:+0000
TZOFFSETTO:+0000
TZNAME:UTC
DTSTART:20190101T000000
END:STANDARD
END:VTIMEZONE
BEGIN:VEVENT
DTSTART;TZID=UTC:20191005T090000
DTEND;TZID=UTC:20191006T150000
DTSTAMP:20200228T155120
CREATED:20191001T212911Z
LAST-MODIFIED:20191001T212911Z
UID:603-1570266000-1570374000@killcareaccommodation.com.au
SUMMARY:Bouddi Peninsula Arts Trail
DESCRIPTION:This October Long Weekend. Come and meet the artists & artisans in their studios and workshops and catch a glimpse of how they work and what inspires them. Showcasing a diverse range of art forms including ceramics\, wood\, painting\, textiles and jewellery\, The Bouddi Peninsula Arts Trail is a unique way in which to view and have the opportunity to purchase affordable artworks directly from the artists.\nSpend a day on the stunning Bouddi Peninsula where the Bush\, Beach and Bay environs have been inspiring creatives for many years. \n
URL:https://killcareaccommodation.com.au/event/bouddi-art-trail/
LOCATION:Killcare NSW\, Killcare\, NSW\, 2257\, Australia
CATEGORIES:Arts
ATTACH;FMTTYPE=image/jpeg:https://killcareaccommodation.com.au/wp-content/uploads/2019/10/img-4166_orig.jpg
END:VEVENT
END:VCALENDAR